BEGIN:VCALENDAR
VERSION:2.0
PRODID:-//DIGITAL FACTORY//EVENTS MAKER V1.6.14//EN
CALSCALE:GREGORIAN
BEGIN:VEVENT
DTEND:20200830T100000Z
UID:69e9173c25559
DTSTAMP:20260422T184516Z
CATEGORIES:Turnier
LOCATION:Golfclub Gäuboden e.V. Fruhstorf 6, 94330 Aiterhofen
DESCRIPTION:
URL;VALUE=URI:https://www.gc-gaeuboden.de/veranstaltungen/veranstaltung/ryder-cup-gc-gaeuboden-gc-schlossberg/
SUMMARY:Ryder Cup GC Gäuboden - GC Schloßberg
DTSTART:20200830T080000Z
END:VEVENT
END:VCALENDAR
